BEGIN:VCALENDAR
VERSION:2.0
PRODID:-//Shalom Center for Conflict Resolution and Reconciliation | SCCRR - ECPv6.6.4.2//NONSGML v1.0//EN
CALSCALE:GREGORIAN
METHOD:PUBLISH
X-ORIGINAL-URL:https://shalomconflictcenter.org
X-WR-CALDESC:Events for Shalom Center for Conflict Resolution and Reconciliation | SCCRR
REFRESH-INTERVAL;VALUE=DURATION:PT1H
X-Robots-Tag:noindex
X-PUBLISHED-TTL:PT1H
BEGIN:VTIMEZONE
TZID:UTC
BEGIN:STANDARD
TZOFFSETFROM:+0000
TZOFFSETTO:+0000
TZNAME:UTC
DTSTART:20260101T000000
END:STANDARD
END:VTIMEZONE
BEGIN:VEVENT
DTSTART;TZID=UTC:20260121T080000
DTEND;TZID=UTC:20260121T170000
DTSTAMP:20260421T113813
CREATED:20260121T082454Z
LAST-MODIFIED:20260121T082454Z
UID:8339-1768982400-1769014800@shalomconflictcenter.org
SUMMARY:Shalom-SCCRR Conflict Transformation\, Peacebuilding & Development interventions for the month of January 2026.
DESCRIPTION:
URL:https://shalomconflictcenter.org/event/shalom-sccrr-conflict-transformation-peacebuilding-development-interventions-for-the-month-of-january-2026/
END:VEVENT
END:VCALENDAR